BEGIN:VCALENDAR
PRODID:-//PUBBLE//agenda//NL
VERSION:2.0
METHOD:PUBLISH
BEGIN:VEVENT
DTSTART:20260530T110000Z
DTEND:20260530T150000Z
DTSTAMP:20260423T180117Z
UID:20f4dc17-0512-42bf-b493-434269c44c3d
CREATED:20260423T180117Z
NAME:Open tuin dag achterhoekagenda.nl
X-WR-CALNAME:Open tuin dag
X-ALT-DESC;FMTTYPE=text/html:<a href='/agenda/2026/5/30/open-tuin-dag-547135'>/agenda/2026/5/30/open-tuin-dag-547135</a> || <p>Welkom voor een opentuin middag&nbsp;</p>
DESCRIPTION:<a href='/agenda/2026/5/30/open-tuin-dag-547135'>/agenda/2026/5/30/open-tuin-dag-547135</a> || <p>Welkom voor een opentuin middag&nbsp;</p>
LAST-MODIFIED:20260423T180117Z
LOCATION: Erve Het Eelmerink | het Eelmerink 2A Vorden
SEQUENCE:0
STATUS:CONFIRMED
SUMMARY:Open tuin dag
TRANSP:OPAQUE
END:VEVENT
END:VCALENDAR
