BEGIN:VCALENDAR
PRODID:-//PUBBLE//agenda//NL
VERSION:2.0
METHOD:PUBLISH
BEGIN:VEVENT
DTSTART:20260425T105700Z
DTEND:20260425T150000Z
DTSTAMP:20260423T143629Z
UID:dbb1421c-ae7b-4d1d-a129-7e8e6d0f535d
CREATED:20260423T143629Z
NAME:Open tuin achterhoekagenda.nl
X-WR-CALNAME:Open tuin
X-ALT-DESC;FMTTYPE=text/html:<a href='/agenda/2026/4/25/open-tuin-547071'>/agenda/2026/4/25/open-tuin-547071</a> || <p><strong>Op zaterdag 25 april is onze eerste opentuin dag weer. Er is al veel moois te zien en er zijn planten uit eigen tuin te koop&nbsp;</strong></p>
DESCRIPTION:<a href='/agenda/2026/4/25/open-tuin-547071'>/agenda/2026/4/25/open-tuin-547071</a> || <p><strong>Op zaterdag 25 april is onze eerste opentuin dag weer. Er is al veel moois te zien en er zijn planten uit eigen tuin te koop&nbsp;</strong></p>
LAST-MODIFIED:20260423T143629Z
LOCATION: Erve Het Eelmerink | het Eelmerink 2A Vorden
SEQUENCE:0
STATUS:CONFIRMED
SUMMARY:Open tuin
TRANSP:OPAQUE
END:VEVENT
END:VCALENDAR
