BEGIN:VCALENDAR
PRODID:-//PUBBLE//agenda//NL
VERSION:2.0
METHOD:PUBLISH
BEGIN:VEVENT
DTSTART:20260423T212300Z
DTEND:20260422T230000Z
DTSTAMP:20260422T130623Z
UID:d62972a9-1ddd-489e-b606-fdc53a4cff5f
CREATED:20260422T130623Z
NAME:rob achterhoekagenda.nl
X-WR-CALNAME:rob
X-ALT-DESC;FMTTYPE=text/html:<a href='/agenda/2026/4/23/rob-547026'>/agenda/2026/4/23/rob-547026</a> || <p>teunissen</p>
DESCRIPTION:<a href='/agenda/2026/4/23/rob-547026'>/agenda/2026/4/23/rob-547026</a> || <p>teunissen</p>
LAST-MODIFIED:20260422T130623Z
LOCATION: Remigiuskerk (PKN) | Dorpsstraat 20 Steenderen
SEQUENCE:0
STATUS:CONFIRMED
SUMMARY:rob
TRANSP:OPAQUE
END:VEVENT
END:VCALENDAR
