BEGIN:VCALENDAR
PRODID:-//PUBBLE//agenda//NL
VERSION:2.0
METHOD:PUBLISH
BEGIN:VEVENT
DTSTART:20260531T080000Z
DTEND:20260530T230000Z
DTSTAMP:20260425T200609Z
UID:defc5821-f135-4a7c-8919-179a38544188
CREATED:20260425T200609Z
NAME:ds. Irma Pijpers Hoogendoorn achterhoekagenda.nl
X-WR-CALNAME:ds. Irma Pijpers Hoogendoorn
X-ALT-DESC;FMTTYPE=text/html:<a href='/agenda/2026/5/31/ds-irma-pijpers-hoogendoorn-546383'>/agenda/2026/5/31/ds-irma-pijpers-hoogendoorn-546383</a> || <p>U bent van harte welkom.</p><p>De diensten zijn live, online en achteraf te volgen via beeld op ons YouTube kanaal (Protestantse Gemeente Zutphen).</p>
DESCRIPTION:<a href='/agenda/2026/5/31/ds-irma-pijpers-hoogendoorn-546383'>/agenda/2026/5/31/ds-irma-pijpers-hoogendoorn-546383</a> || <p>U bent van harte welkom.</p><p>De diensten zijn live, online en achteraf te volgen via beeld op ons YouTube kanaal (Protestantse Gemeente Zutphen).</p>
LAST-MODIFIED:20260425T200609Z
LOCATION: Protestantse Gemeente Zutphen (Walburgiskerk) | Kerkhof 3 Zutphen
SEQUENCE:0
STATUS:CONFIRMED
SUMMARY:ds. Irma Pijpers Hoogendoorn
TRANSP:OPAQUE
END:VEVENT
END:VCALENDAR
