BEGIN:VCALENDAR
PRODID:-//PUBBLE//agenda//NL
VERSION:2.0
METHOD:PUBLISH
BEGIN:VEVENT
DTSTART:20260524T080000Z
DTEND:20260523T230000Z
DTSTAMP:20260425T200610Z
UID:893e730d-75fe-4a34-9ffb-26c08c5c3ecb
CREATED:20260425T200610Z
NAME:ds. Irma Pijpers Hoogendoorn achterhoekagenda.nl
X-WR-CALNAME:ds. Irma Pijpers Hoogendoorn
X-ALT-DESC;FMTTYPE=text/html:<a href='/agenda/2026/5/24/ds-irma-pijpers-hoogendoorn-546382'>/agenda/2026/5/24/ds-irma-pijpers-hoogendoorn-546382</a> || <p>Pinksteren: U bent van harte welkom.</p><p>De diensten zijn live, online en achteraf te volgen via beeld op ons YouTube kanaal (Protestantse Gemeente Zutphen).</p>
DESCRIPTION:<a href='/agenda/2026/5/24/ds-irma-pijpers-hoogendoorn-546382'>/agenda/2026/5/24/ds-irma-pijpers-hoogendoorn-546382</a> || <p>Pinksteren: U bent van harte welkom.</p><p>De diensten zijn live, online en achteraf te volgen via beeld op ons YouTube kanaal (Protestantse Gemeente Zutphen).</p>
LAST-MODIFIED:20260425T200610Z
LOCATION: Protestantse Gemeente Zutphen (Walburgiskerk) | Kerkhof 3 Zutphen
SEQUENCE:0
STATUS:CONFIRMED
SUMMARY:ds. Irma Pijpers Hoogendoorn
TRANSP:OPAQUE
END:VEVENT
END:VCALENDAR
