BEGIN:VCALENDAR
PRODID:-//PUBBLE//agenda//NL
VERSION:2.0
METHOD:PUBLISH
BEGIN:VEVENT
DTSTART:20260517T073900Z
DTEND:20260516T230000Z
DTSTAMP:20260425T195556Z
UID:cce35942-0657-40f8-9640-83d1bd12b8f4
CREATED:20260425T195556Z
NAME:dhr, Jan Willem Hengeveld achterhoekagenda.nl
X-WR-CALNAME:dhr, Jan Willem Hengeveld
X-ALT-DESC;FMTTYPE=text/html:<a href='/agenda/2026/5/17/dhr-jan-willem-hengeveld-546381'>/agenda/2026/5/17/dhr-jan-willem-hengeveld-546381</a> || <p>U bent van harte welkom.</p><p>De diensten zijn live, online en achteraf te volgen via beeld op ons YouTube kanaal (Protestantse Gemeente Zutphen).</p>
DESCRIPTION:<a href='/agenda/2026/5/17/dhr-jan-willem-hengeveld-546381'>/agenda/2026/5/17/dhr-jan-willem-hengeveld-546381</a> || <p>U bent van harte welkom.</p><p>De diensten zijn live, online en achteraf te volgen via beeld op ons YouTube kanaal (Protestantse Gemeente Zutphen).</p>
LAST-MODIFIED:20260425T195556Z
LOCATION: Protestantse Gemeente Zutphen (Walburgiskerk) | Kerkhof 3 Zutphen
SEQUENCE:0
STATUS:CONFIRMED
SUMMARY:dhr, Jan Willem Hengeveld
TRANSP:OPAQUE
END:VEVENT
END:VCALENDAR
