BEGIN:VCALENDAR
PRODID:-//PUBBLE//agenda//NL
VERSION:2.0
METHOD:PUBLISH
BEGIN:VEVENT
DTSTART:20260514T080000Z
DTEND:20260513T230000Z
DTSTAMP:20260425T200151Z
UID:4598c7b9-7d14-4fcd-aad6-2797c4736e39
CREATED:20260425T200151Z
NAME:ds. René Silvis achterhoekagenda.nl
X-WR-CALNAME:ds. René Silvis
X-ALT-DESC;FMTTYPE=text/html:<a href='/agenda/2026/5/14/ds-rene-silvis-546380'>/agenda/2026/5/14/ds-rene-silvis-546380</a> || <p>Hemelvaart. U bent van harte welkom.</p><p>De diensten zijn live, online en achteraf te volgen via beeld op ons YouTube kanaal (Protestantse Gemeente Zutphen).</p>
DESCRIPTION:<a href='/agenda/2026/5/14/ds-rene-silvis-546380'>/agenda/2026/5/14/ds-rene-silvis-546380</a> || <p>Hemelvaart. U bent van harte welkom.</p><p>De diensten zijn live, online en achteraf te volgen via beeld op ons YouTube kanaal (Protestantse Gemeente Zutphen).</p>
LAST-MODIFIED:20260425T200151Z
LOCATION: Protestantse Gemeente Zutphen (Walburgiskerk) | Kerkhof 3 Zutphen
SEQUENCE:0
STATUS:CONFIRMED
SUMMARY:ds. René Silvis
TRANSP:OPAQUE
END:VEVENT
END:VCALENDAR
