BEGIN:VCALENDAR
PRODID:-//PUBBLE//agenda//NL
VERSION:2.0
METHOD:PUBLISH
BEGIN:VEVENT
DTSTART:20260510T073600Z
DTEND:20260509T230000Z
DTSTAMP:20260425T201158Z
UID:6d1a94ae-9ce7-4a51-b884-bb3b29865a1e
CREATED:20260425T201158Z
NAME:ds. Irma Pijpers Hoogendoorn achterhoekagenda.nl
X-WR-CALNAME:ds. Irma Pijpers Hoogendoorn
X-ALT-DESC;FMTTYPE=text/html:<a href='/agenda/2026/5/10/ds-irma-pijpers-hoogendoorn-546379'>/agenda/2026/5/10/ds-irma-pijpers-hoogendoorn-546379</a> || <p>U bent van harte welkom.</p><p>De diensten zijn live, online en achteraf te volgen via beeld op ons YouTube kanaal (Protestantse Gemeente Zutphen).</p>
DESCRIPTION:<a href='/agenda/2026/5/10/ds-irma-pijpers-hoogendoorn-546379'>/agenda/2026/5/10/ds-irma-pijpers-hoogendoorn-546379</a> || <p>U bent van harte welkom.</p><p>De diensten zijn live, online en achteraf te volgen via beeld op ons YouTube kanaal (Protestantse Gemeente Zutphen).</p>
LAST-MODIFIED:20260425T201158Z
LOCATION: Protestantse Gemeente Zutphen (Walburgiskerk) | Kerkhof 3 Zutphen
SEQUENCE:0
STATUS:CONFIRMED
SUMMARY:ds. Irma Pijpers Hoogendoorn
TRANSP:OPAQUE
END:VEVENT
END:VCALENDAR
