BEGIN:VCALENDAR
PRODID:-//PUBBLE//agenda//NL
VERSION:2.0
METHOD:PUBLISH
BEGIN:VEVENT
DTSTART:20260503T080000Z
DTEND:20260502T230000Z
DTSTAMP:20260425T200151Z
UID:c9271304-d334-4d83-a0ed-b3771a05c6f4
CREATED:20260425T200151Z
NAME:ds. henk van Es achterhoekagenda.nl
X-WR-CALNAME:ds. henk van Es
X-ALT-DESC;FMTTYPE=text/html:<a href='/agenda/2026/5/3/ds-henk-van-es-546378'>/agenda/2026/5/3/ds-henk-van-es-546378</a> || <p>U bent van harte welkom.</p><p>De diensten zijn live, online en achteraf te volgen via beeld op ons YouTube kanaal (Protestantse Gemeente Zutphen).</p>
DESCRIPTION:<a href='/agenda/2026/5/3/ds-henk-van-es-546378'>/agenda/2026/5/3/ds-henk-van-es-546378</a> || <p>U bent van harte welkom.</p><p>De diensten zijn live, online en achteraf te volgen via beeld op ons YouTube kanaal (Protestantse Gemeente Zutphen).</p>
LAST-MODIFIED:20260425T200151Z
LOCATION: Protestantse Gemeente Zutphen (Walburgiskerk) | Kerkhof 3 Zutphen
SEQUENCE:0
STATUS:CONFIRMED
SUMMARY:ds. henk van Es
TRANSP:OPAQUE
END:VEVENT
END:VCALENDAR
