BEGIN:VCALENDAR
PRODID:-//PUBBLE//agenda//NL
VERSION:2.0
METHOD:PUBLISH
BEGIN:VEVENT
DTSTART:20260424T123000Z
DTEND:20260423T230000Z
DTSTAMP:20260422T130045Z
UID:617e4679-5a53-44d0-938f-6ded6a7af376
CREATED:20260422T130045Z
NAME:Dhr. Jaap Harmsen achterhoekagenda.nl
X-WR-CALNAME:Dhr. Jaap Harmsen
X-ALT-DESC;FMTTYPE=text/html:<a href='/agenda/2026/4/24/dhr-jaap-harmsen-546143'>/agenda/2026/4/24/dhr-jaap-harmsen-546143</a> || <p>Bewoners en belangstellenden zijn van harte welkom bij de weeksluiting.</p><p>Na afloop is er koffie en thee.</p>
DESCRIPTION:<a href='/agenda/2026/4/24/dhr-jaap-harmsen-546143'>/agenda/2026/4/24/dhr-jaap-harmsen-546143</a> || <p>Bewoners en belangstellenden zijn van harte welkom bij de weeksluiting.</p><p>Na afloop is er koffie en thee.</p>
LAST-MODIFIED:20260422T130045Z
LOCATION: De Wehmerhof | de Delle 117 Vorden
SEQUENCE:0
STATUS:CONFIRMED
SUMMARY:Dhr. Jaap Harmsen
TRANSP:OPAQUE
END:VEVENT
END:VCALENDAR
