BEGIN:VCALENDAR
PRODID:-//PUBBLE//agenda//NL
VERSION:2.0
METHOD:PUBLISH
BEGIN:VEVENT
DTSTART:20260422T163000Z
DTEND:20260422T173000Z
DTSTAMP:20260420T140810Z
UID:0d407d5e-a45c-4b2f-9de3-986b3035d958
CREATED:20260420T140810Z
NAME:Viscursus voor kids Winterswijk. achterhoekagenda.nl
X-WR-CALNAME:Viscursus voor kids Winterswijk.
X-ALT-DESC;FMTTYPE=text/html:<a href='/agenda/2026/4/22/viscursus-voor-kids-winterswijk--545886'>/agenda/2026/4/22/viscursus-voor-kids-winterswijk--545886</a> || <p><strong>Viscursus voor Kids in Winterswijk!</strong></p><p>Wil jij leren vissen? Hengelsportvereniging W.H.V. De Karper organiseert in april en mei een <strong>gratis</strong> viscursus voor de jeugd!&nbsp;</p><p>Leer in 3 lessen alles over tuigjes, voer maken en de praktijk aan de waterkant.</p><p>•&nbsp;Data:&nbsp;22/4, 29/4 en 6/5 (18:30 – 20:30 uur).</p><p>•&nbsp;Locatie:&nbsp;1e les bij Speeltuin De Vrees.</p><p>•&nbsp;Kosten:&nbsp;Gratis (inclusief materiaal en lekkers).</p><p>• Aanmelden en info: www.whvdekarper.nl.</p><p>Wees er snel bij, want er is plek voor maximaal 30 deelnemers!</p>
DESCRIPTION:<a href='/agenda/2026/4/22/viscursus-voor-kids-winterswijk--545886'>/agenda/2026/4/22/viscursus-voor-kids-winterswijk--545886</a> || <p><strong>Viscursus voor Kids in Winterswijk!</strong></p><p>Wil jij leren vissen? Hengelsportvereniging W.H.V. De Karper organiseert in april en mei een <strong>gratis</strong> viscursus voor de jeugd!&nbsp;</p><p>Leer in 3 lessen alles over tuigjes, voer maken en de praktijk aan de waterkant.</p><p>•&nbsp;Data:&nbsp;22/4, 29/4 en 6/5 (18:30 – 20:30 uur).</p><p>•&nbsp;Locatie:&nbsp;1e les bij Speeltuin De Vrees.</p><p>•&nbsp;Kosten:&nbsp;Gratis (inclusief materiaal en lekkers).</p><p>• Aanmelden en info: www.whvdekarper.nl.</p><p>Wees er snel bij, want er is plek voor maximaal 30 deelnemers!</p>
LAST-MODIFIED:20260420T140810Z
LOCATION: Speeltuinvereniging de Vrees | P.J. Troelstrastraat 18a Winterswijk
SEQUENCE:0
STATUS:CONFIRMED
SUMMARY:Viscursus voor kids Winterswijk.
TRANSP:OPAQUE
END:VEVENT
END:VCALENDAR
