BEGIN:VCALENDAR
PRODID:-//PUBBLE//agenda//NL
VERSION:2.0
METHOD:PUBLISH
BEGIN:VEVENT
DTSTART:20260425T080000Z
DTEND:20260426T140000Z
DTSTAMP:20260423T144159Z
UID:3d9b0f0e-cf76-4d6d-bef9-5fde47b23492
CREATED:20260423T144159Z
NAME:Open tuin dagen, Lewisia and Rhodohypoxis World. achterhoekagenda.nl
X-WR-CALNAME:Open tuin dagen, Lewisia and Rhodohypoxis World.
X-ALT-DESC;FMTTYPE=text/html:<a href='/agenda/2026/4/25/open-tuin-dagen-lewisia-and-rhodohypoxis-world--545788'>/agenda/2026/4/25/open-tuin-dagen-lewisia-and-rhodohypoxis-world--545788</a> || <p>Open tuindagen Lewisia and Rhodohypoxis World, Gorssel.</p><p>Zaterdag 25 april en zondag 26 april is onze tuin geopend voor het publiek u bent van harte welkom in de alpine tuin van Annie en Ap Peppelenbos</p><p>Een tuin die zich de laatste jaren in een groeiende belangstelling mag verheugen, maar ook bij veel planten liefhebbers in Nederland en buitenland bekend is Onze alpine tuin is zodanig ingericht met hoogte verschillen dat planten uit het hooggebergte zich daarin thuis voelen. Alpine planten ook wel rotsplanten genoemd zijn planten die het liefst in een stenige omgeving groeien. Veel planten zullen deze dagen in de bloei staan zoals Daphne, Phlox en Aubrieta om er maar een paar te noemen. Een prachtige kleuren pracht van veel planten in het vroege voorjaar. Maar er is ook plaats voor meer dan uitsluitend alpine planten. Kleine dwergboompjes en struikjes maken de tuin compleet ook hosta en diverse struikjes en bijzondere tuinplanten zijn aangeplant op open vlakte en langs de vijver en het moeras.&nbsp;</p><p>Voor de echte planten liefhebber valt er veel te zien. Wij vertellen u graag over deze planten en hun leefomgeving in onze alpine tuin tijdens de open tuin dagen.&nbsp;</p><p>De tuin is gelegen aan het Acaciaplein 29, 7213 WL in Gorssel.&nbsp;</p><p>Openingstijden beide dagen van 10.00 uur tot 16.00 uur.</p><p>De entree inclusief een kopje is gratis. Ook zijn er weer planten te koop.</p><p>Op zaterdag 9 mei en zondag 10 mei is onze tuin ook open voor het publiek.</p><p>Bezoek de website voor meer info www.lewisiatuin.nl &nbsp;</p><p>Alpine tuin en hobby kwekerij. Annie en Ap Peppelenbos zeker een bezoekje waard.</p>
DESCRIPTION:<a href='/agenda/2026/4/25/open-tuin-dagen-lewisia-and-rhodohypoxis-world--545788'>/agenda/2026/4/25/open-tuin-dagen-lewisia-and-rhodohypoxis-world--545788</a> || <p>Open tuindagen Lewisia and Rhodohypoxis World, Gorssel.</p><p>Zaterdag 25 april en zondag 26 april is onze tuin geopend voor het publiek u bent van harte welkom in de alpine tuin van Annie en Ap Peppelenbos</p><p>Een tuin die zich de laatste jaren in een groeiende belangstelling mag verheugen, maar ook bij veel planten liefhebbers in Nederland en buitenland bekend is Onze alpine tuin is zodanig ingericht met hoogte verschillen dat planten uit het hooggebergte zich daarin thuis voelen. Alpine planten ook wel rotsplanten genoemd zijn planten die het liefst in een stenige omgeving groeien. Veel planten zullen deze dagen in de bloei staan zoals Daphne, Phlox en Aubrieta om er maar een paar te noemen. Een prachtige kleuren pracht van veel planten in het vroege voorjaar. Maar er is ook plaats voor meer dan uitsluitend alpine planten. Kleine dwergboompjes en struikjes maken de tuin compleet ook hosta en diverse struikjes en bijzondere tuinplanten zijn aangeplant op open vlakte en langs de vijver en het moeras.&nbsp;</p><p>Voor de echte planten liefhebber valt er veel te zien. Wij vertellen u graag over deze planten en hun leefomgeving in onze alpine tuin tijdens de open tuin dagen.&nbsp;</p><p>De tuin is gelegen aan het Acaciaplein 29, 7213 WL in Gorssel.&nbsp;</p><p>Openingstijden beide dagen van 10.00 uur tot 16.00 uur.</p><p>De entree inclusief een kopje is gratis. Ook zijn er weer planten te koop.</p><p>Op zaterdag 9 mei en zondag 10 mei is onze tuin ook open voor het publiek.</p><p>Bezoek de website voor meer info www.lewisiatuin.nl &nbsp;</p><p>Alpine tuin en hobby kwekerij. Annie en Ap Peppelenbos zeker een bezoekje waard.</p>
LAST-MODIFIED:20260423T144159Z
LOCATION: Lewisia and Rhodohypoxis World | Acaciaplein 29 Gorssel
SEQUENCE:0
STATUS:CONFIRMED
SUMMARY:Open tuin dagen, Lewisia and Rhodohypoxis World.
TRANSP:OPAQUE
END:VEVENT
END:VCALENDAR
