BEGIN:VCALENDAR
PRODID:-//PUBBLE//agenda//NL
VERSION:2.0
METHOD:PUBLISH
BEGIN:VEVENT
DTSTART:20260517T080000Z
DTEND:20260516T230000Z
DTSTAMP:20260426T012047Z
UID:744dcb78-bdb1-4d86-b741-808b456291e5
CREATED:20260426T012047Z
NAME:ds. J.  (Johan) Plante, Maarn achterhoekagenda.nl
X-WR-CALNAME:ds. J.  (Johan) Plante, Maarn
X-ALT-DESC;FMTTYPE=text/html:<a href='/agenda/2026/5/17/ds-j-johan-plante-maarn-545730'>/agenda/2026/5/17/ds-j-johan-plante-maarn-545730</a> || <p>Ook via kerkradio, kerkdienstgemist.nl of pg-dinxperlo.nl</p>
DESCRIPTION:<a href='/agenda/2026/5/17/ds-j-johan-plante-maarn-545730'>/agenda/2026/5/17/ds-j-johan-plante-maarn-545730</a> || <p>Ook via kerkradio, kerkdienstgemist.nl of pg-dinxperlo.nl</p>
LAST-MODIFIED:20260426T012047Z
LOCATION: Dorpskerk | Markt 2 Dinxperlo
SEQUENCE:0
STATUS:CONFIRMED
SUMMARY:ds. J.  (Johan) Plante, Maarn
TRANSP:OPAQUE
END:VEVENT
END:VCALENDAR
