BEGIN:VCALENDAR
PRODID:-//PUBBLE//agenda//NL
VERSION:2.0
METHOD:PUBLISH
BEGIN:VEVENT
DTSTART:20260510T080000Z
DTEND:20260509T230000Z
DTSTAMP:20260426T011828Z
UID:5c8b2d22-cbec-43b8-a53d-38e56b51a69b
CREATED:20260426T011828Z
NAME:ds. W. (Willemien) Lammers achterhoekagenda.nl
X-WR-CALNAME:ds. W. (Willemien) Lammers
X-ALT-DESC;FMTTYPE=text/html:<a href='/agenda/2026/5/10/ds-w-willemien-lammers-545729'>/agenda/2026/5/10/ds-w-willemien-lammers-545729</a> || <p>m.m.v. de cantorij.&nbsp;</p><p>Ook via kerkradio, kerkdienstgemist.nl of pg-dinxperlo.nl</p>
DESCRIPTION:<a href='/agenda/2026/5/10/ds-w-willemien-lammers-545729'>/agenda/2026/5/10/ds-w-willemien-lammers-545729</a> || <p>m.m.v. de cantorij.&nbsp;</p><p>Ook via kerkradio, kerkdienstgemist.nl of pg-dinxperlo.nl</p>
LAST-MODIFIED:20260426T011828Z
LOCATION: Dorpskerk | Markt 2 Dinxperlo
SEQUENCE:0
STATUS:CONFIRMED
SUMMARY:ds. W. (Willemien) Lammers
TRANSP:OPAQUE
END:VEVENT
END:VCALENDAR
