BEGIN:VCALENDAR
PRODID:-//PUBBLE//agenda//NL
VERSION:2.0
METHOD:PUBLISH
BEGIN:VEVENT
DTSTART:20260503T080000Z
DTEND:20260502T230000Z
DTSTAMP:20260426T012125Z
UID:39b28f5f-b663-4f9b-9355-d9642ba2a081
CREATED:20260426T012125Z
NAME:ds. W. (Willemien) Lammers achterhoekagenda.nl
X-WR-CALNAME:ds. W. (Willemien) Lammers
X-ALT-DESC;FMTTYPE=text/html:<a href='/agenda/2026/5/3/ds-w-willemien-lammers-545728'>/agenda/2026/5/3/ds-w-willemien-lammers-545728</a> || <p>Tienerviering.&nbsp;</p><p>Ook via kerkradio, kerkdienstgemist.nl of pg-dinxperlo.nl</p>
DESCRIPTION:<a href='/agenda/2026/5/3/ds-w-willemien-lammers-545728'>/agenda/2026/5/3/ds-w-willemien-lammers-545728</a> || <p>Tienerviering.&nbsp;</p><p>Ook via kerkradio, kerkdienstgemist.nl of pg-dinxperlo.nl</p>
LAST-MODIFIED:20260426T012125Z
LOCATION: Dorpskerk | Markt 2 Dinxperlo
SEQUENCE:0
STATUS:CONFIRMED
SUMMARY:ds. W. (Willemien) Lammers
TRANSP:OPAQUE
END:VEVENT
END:VCALENDAR
