BEGIN:VCALENDAR
PRODID:-//PUBBLE//agenda//NL
VERSION:2.0
METHOD:PUBLISH
BEGIN:VEVENT
DTSTART:20260426T080000Z
DTEND:20260425T230000Z
DTSTAMP:20260426T011156Z
UID:c857f5aa-cb8a-48b9-811d-519a392fe206
CREATED:20260426T011156Z
NAME:ds. W. (Willemien) Lammers achterhoekagenda.nl
X-WR-CALNAME:ds. W. (Willemien) Lammers
X-ALT-DESC;FMTTYPE=text/html:<a href='/agenda/2026/4/26/ds-w-willemien-lammers-545727'>/agenda/2026/4/26/ds-w-willemien-lammers-545727</a> || <p>Familiedienst m.m.v. het combo.&nbsp;</p><p>Kindernevendienst, oppas.&nbsp;</p><p>Ook via kerkradio, kerkdienstgemist.nl of pg-dinxperlo.nl</p>
DESCRIPTION:<a href='/agenda/2026/4/26/ds-w-willemien-lammers-545727'>/agenda/2026/4/26/ds-w-willemien-lammers-545727</a> || <p>Familiedienst m.m.v. het combo.&nbsp;</p><p>Kindernevendienst, oppas.&nbsp;</p><p>Ook via kerkradio, kerkdienstgemist.nl of pg-dinxperlo.nl</p>
LAST-MODIFIED:20260426T011156Z
LOCATION: Dorpskerk | Markt 2 Dinxperlo
SEQUENCE:0
STATUS:CONFIRMED
SUMMARY:ds. W. (Willemien) Lammers
TRANSP:OPAQUE
END:VEVENT
END:VCALENDAR
