BEGIN:VCALENDAR
PRODID:-//PUBBLE//agenda//NL
VERSION:2.0
METHOD:PUBLISH
BEGIN:VEVENT
DTSTART:20260423T070000Z
DTEND:20260422T230000Z
DTSTAMP:20260420T155646Z
UID:66421c6b-7b43-4efd-b618-9030873cbc90
CREATED:20260420T155646Z
NAME:Pastor Droste achterhoekagenda.nl
X-WR-CALNAME:Pastor Droste
X-ALT-DESC;FMTTYPE=text/html:<a href='/agenda/2026/4/23/pastor-droste-545405'>/agenda/2026/4/23/pastor-droste-545405</a> || <p>Ochtendgebed met na afloop koffie in Elim</p>
DESCRIPTION:<a href='/agenda/2026/4/23/pastor-droste-545405'>/agenda/2026/4/23/pastor-droste-545405</a> || <p>Ochtendgebed met na afloop koffie in Elim</p>
LAST-MODIFIED:20260420T155646Z
LOCATION: Oude Helenakerk | Landstraat 11 Aalten
SEQUENCE:0
STATUS:CONFIRMED
SUMMARY:Pastor Droste
TRANSP:OPAQUE
END:VEVENT
END:VCALENDAR
