BEGIN:VCALENDAR
PRODID:-//PUBBLE//agenda//NL
VERSION:2.0
METHOD:PUBLISH
BEGIN:VEVENT
DTSTART:20260416T070000Z
DTEND:20260415T230000Z
DTSTAMP:20260421T085053Z
UID:d41828b7-8313-4857-8c8b-1f0be76ab584
CREATED:20260421T085053Z
NAME:Pastor Droste achterhoekagenda.nl
X-WR-CALNAME:Pastor Droste
X-ALT-DESC;FMTTYPE=text/html:<a href='/agenda/2026/4/16/pastor-droste-545404'>/agenda/2026/4/16/pastor-droste-545404</a> || <p>Ochtendgebed met na afloop koffie in Elim</p>
DESCRIPTION:<a href='/agenda/2026/4/16/pastor-droste-545404'>/agenda/2026/4/16/pastor-droste-545404</a> || <p>Ochtendgebed met na afloop koffie in Elim</p>
LAST-MODIFIED:20260421T085053Z
LOCATION: Oude Helenakerk | Landstraat 11 Aalten
SEQUENCE:0
STATUS:CONFIRMED
SUMMARY:Pastor Droste
TRANSP:OPAQUE
END:VEVENT
END:VCALENDAR
