BEGIN:VCALENDAR
PRODID:-//PUBBLE//agenda//NL
VERSION:2.0
METHOD:PUBLISH
BEGIN:VEVENT
DTSTART:20260425T080000Z
DTEND:20260425T100000Z
DTSTAMP:20260423T144547Z
UID:020875cd-219f-4843-9a6e-7b02a375be61
CREATED:20260423T144547Z
NAME:RondNAH, gespreksgroep voor mensen met Niet Aangeboren Hersenletsel achterhoekagenda.nl
X-WR-CALNAME:RondNAH, gespreksgroep voor mensen met Niet Aangeboren Hersenletsel
X-ALT-DESC;FMTTYPE=text/html:<a href='/agenda/2026/4/25/rondnah-gespreksgroep-voor-mensen-met-niet-aangeboren-hersenletsel-544667'>/agenda/2026/4/25/rondnah-gespreksgroep-voor-mensen-met-niet-aangeboren-hersenletsel-544667</a> || <p>Beste deelnemer,</p><p>Veel mensen met niet-aangeboren hersenletsel (NAH) ervaren meer of sneller stress dan vóór het hersenletsel. Soms kunnen ogenschijnlijk kleine prikkels, zoals de hitte van een tropische dag, al een sterke stressreactie oproepen. Het kan voelen alsof de “stoppen doorslaan”: het komt onverwacht en is ook voor de omgeving niet altijd goed te begrijpen.</p><p>Daarom staat deze bijeenkomst in het teken van ‘Stress en rust in het brein’.</p><p>Over stress en rust in het brein komt Barry Janssen van Arbeidsbrein - PSHVelp ons 25-04 wat vertellen. We gaan in gesprek over de verschillende vormen van rust en doen een aantal korte aandacht-oefeningen.</p><p>Je bent van harte welkom om deel te nemen, net als de mensen om je heen! Laat even weten of je komt via de Whatsapp groep of per mail m.vandieren@meesamen.nl of stuur een berichtje aan 06-46378640.&nbsp;</p><p>Met vriendelijke groet,</p><p>Meike van Dieren&nbsp;</p><p>Coördinator RondNAH</p><p>Locatie: &nbsp; &nbsp; &nbsp; Zonnebrink 61 7101 NB Winterswijk&nbsp;</p><p>Tijd: &nbsp; &nbsp; &nbsp; &nbsp; &nbsp; &nbsp; 10:00uur tot 12:00uur</p><p>Kosten: &nbsp; &nbsp; &nbsp; &nbsp;Gratis toegankelijk, consumpties voor eigen rekening</p>
DESCRIPTION:<a href='/agenda/2026/4/25/rondnah-gespreksgroep-voor-mensen-met-niet-aangeboren-hersenletsel-544667'>/agenda/2026/4/25/rondnah-gespreksgroep-voor-mensen-met-niet-aangeboren-hersenletsel-544667</a> || <p>Beste deelnemer,</p><p>Veel mensen met niet-aangeboren hersenletsel (NAH) ervaren meer of sneller stress dan vóór het hersenletsel. Soms kunnen ogenschijnlijk kleine prikkels, zoals de hitte van een tropische dag, al een sterke stressreactie oproepen. Het kan voelen alsof de “stoppen doorslaan”: het komt onverwacht en is ook voor de omgeving niet altijd goed te begrijpen.</p><p>Daarom staat deze bijeenkomst in het teken van ‘Stress en rust in het brein’.</p><p>Over stress en rust in het brein komt Barry Janssen van Arbeidsbrein - PSHVelp ons 25-04 wat vertellen. We gaan in gesprek over de verschillende vormen van rust en doen een aantal korte aandacht-oefeningen.</p><p>Je bent van harte welkom om deel te nemen, net als de mensen om je heen! Laat even weten of je komt via de Whatsapp groep of per mail m.vandieren@meesamen.nl of stuur een berichtje aan 06-46378640.&nbsp;</p><p>Met vriendelijke groet,</p><p>Meike van Dieren&nbsp;</p><p>Coördinator RondNAH</p><p>Locatie: &nbsp; &nbsp; &nbsp; Zonnebrink 61 7101 NB Winterswijk&nbsp;</p><p>Tijd: &nbsp; &nbsp; &nbsp; &nbsp; &nbsp; &nbsp; 10:00uur tot 12:00uur</p><p>Kosten: &nbsp; &nbsp; &nbsp; &nbsp;Gratis toegankelijk, consumpties voor eigen rekening</p>
LAST-MODIFIED:20260423T144547Z
LOCATION: Zonnebrinkkerk | Zonnebrink 61 Winterswijk
SEQUENCE:0
STATUS:CONFIRMED
SUMMARY:RondNAH, gespreksgroep voor mensen met Niet Aangeboren Hersenletsel
TRANSP:OPAQUE
END:VEVENT
END:VCALENDAR
