BEGIN:VCALENDAR
PRODID:-//PUBBLE//agenda//NL
VERSION:2.0
METHOD:PUBLISH
BEGIN:VEVENT
DTSTART:20260502T090000Z
DTEND:20260503T150000Z
DTSTAMP:20260423T173600Z
UID:a564c52c-f1e9-4140-b411-1ce224b290ad
CREATED:20260423T173600Z
NAME:Voorjaarsmarkt Eibergen achterhoekagenda.nl
X-WR-CALNAME:Voorjaarsmarkt Eibergen
X-ALT-DESC;FMTTYPE=text/html:<a href='/agenda/2026/5/2/voorjaarsmarkt-eibergen-543105'>/agenda/2026/5/2/voorjaarsmarkt-eibergen-543105</a> || <p>Ontdek de gezellige Voorjaarsmarkt in Eibergen! 🌷Op zaterdag 2 en zondag 3 mei verandert de omgeving van de Mallumse Molen in een sfeervolle markt met een grote variatie aan standhouders, lekker eten en leuke activiteiten voor jong en oud.Struin langs kraampjes, bezoek de open Mallumse Molen, maak een rondje door de tuinen van Kruidenhof te Mallum en geniet van de gastvrijheid van Het Muldershuis.📍 Mallumse Molenweg 114 – Eibergen🕚 11:00 – 17:00 uur🎟 Entree €3,50 – kinderen t/m 6 jaar gratis🚗 Gratis parkerenEen gezellig dagje uit voor het hele gezin!</p>
DESCRIPTION:<a href='/agenda/2026/5/2/voorjaarsmarkt-eibergen-543105'>/agenda/2026/5/2/voorjaarsmarkt-eibergen-543105</a> || <p>Ontdek de gezellige Voorjaarsmarkt in Eibergen! 🌷Op zaterdag 2 en zondag 3 mei verandert de omgeving van de Mallumse Molen in een sfeervolle markt met een grote variatie aan standhouders, lekker eten en leuke activiteiten voor jong en oud.Struin langs kraampjes, bezoek de open Mallumse Molen, maak een rondje door de tuinen van Kruidenhof te Mallum en geniet van de gastvrijheid van Het Muldershuis.📍 Mallumse Molenweg 114 – Eibergen🕚 11:00 – 17:00 uur🎟 Entree €3,50 – kinderen t/m 6 jaar gratis🚗 Gratis parkerenEen gezellig dagje uit voor het hele gezin!</p>
LAST-MODIFIED:20260423T173600Z
LOCATION: Het Muldershuis | Mallumse Molenweg 114 Eibergen
SEQUENCE:0
STATUS:CONFIRMED
SUMMARY:Voorjaarsmarkt Eibergen
TRANSP:OPAQUE
END:VEVENT
END:VCALENDAR
