BEGIN:VCALENDAR
PRODID:-//PUBBLE//agenda//NL
VERSION:2.0
METHOD:PUBLISH
BEGIN:VEVENT
DTSTART:20260423T080000Z
DTEND:20260423T070000Z
DTSTAMP:20260420T141118Z
UID:ff930649-1acd-4133-8419-6304c5ff1202
CREATED:20260420T141118Z
NAME:Eucharistie door pastor H. Zemann achterhoekagenda.nl
X-WR-CALNAME:Eucharistie door pastor H. Zemann
X-ALT-DESC;FMTTYPE=text/html:<a href='/agenda/2026/4/23/eucharistie-door-pastor-h-zemann-541448'>/agenda/2026/4/23/eucharistie-door-pastor-h-zemann-541448</a> || <p>Eucharistie door pastor H. Zemann m.m.v. gemengd koor.</p>
DESCRIPTION:<a href='/agenda/2026/4/23/eucharistie-door-pastor-h-zemann-541448'>/agenda/2026/4/23/eucharistie-door-pastor-h-zemann-541448</a> || <p>Eucharistie door pastor H. Zemann m.m.v. gemengd koor.</p>
LAST-MODIFIED:20260420T141118Z
LOCATION: Sint Willibrorduskerk Ruurlo | Groenloseweg 3 Ruurlo
SEQUENCE:0
STATUS:CONFIRMED
SUMMARY:Eucharistie door pastor H. Zemann
TRANSP:OPAQUE
END:VEVENT
END:VCALENDAR
