BEGIN:VCALENDAR
PRODID:-//PUBBLE//agenda//NL
VERSION:2.0
METHOD:PUBLISH
BEGIN:VEVENT
DTSTART:20260627T080000Z
DTEND:20260627T090000Z
DTSTAMP:20260425T180336Z
UID:82ccb01a-5203-4482-b61e-cd62ddfb8c61
CREATED:20260425T180336Z
NAME:Cursusdag: In Contact met je Innerlijke Wijsheid achterhoekagenda.nl
X-WR-CALNAME:Cursusdag: In Contact met je Innerlijke Wijsheid
X-ALT-DESC;FMTTYPE=text/html:<a href='/agenda/2026/6/27/cursusdag-in-contact-met-je-innerlijke-wijsheid-541362'>/agenda/2026/6/27/cursusdag-in-contact-met-je-innerlijke-wijsheid-541362</a> || <p><strong>Wil jij een diepere verbinding met je intuïtie ontwikkelen en leren vertrouwen op je innerlijke wijsheid?</strong>&nbsp;</p><p>Deze cursusdag is dé kans om jouw intuïtieve kracht te versterken en vol vertrouwen in het leven te staan.Tijdens deze cursusdag ontdek je hoe je je intuïtieve kracht versterkt, zodat:</p><p>- je leert luisteren naar de wijze stem in jezelf. -je twijfelt afneemt. -je meer open durft te stellen voor je gevoel.&nbsp;</p><p><strong><br></strong></p><p><strong>Wat kun je verwachten tijdens deze cursusdag?</strong></p><p>- Vertrouwen opbouwen:&nbsp;Leer hoe je op het contact met je innerlijke wijsheid (Hogere Zelf) kunt vertrouwen.<br>- Intuïtief luisteren: Ontdek hoe je jouw innerlijke stem kunt horen en volgen.</p><p>- Gronden en beschermen: krijg praktische tools om jezelf te gronden, af te schermen en te reinigen met je Hogere Zelf.<br>- Afstemmen op anderen: Leer hoe je je kunt afstemmen op de Hogere Zelf van de ander.</p><p>Optioneel – Deze dag kun je afzonderlijk boeken of samen met de cursus op zaterdag 23 mei: Ontdek je intuïtie in 5 stappen. Ben je al enigszins bekend met je intuïtie en wil je deze verder ontwikkelen? Dan is deze cursusdag op 27 juni perfect voor jou. Kies je voor beide dagen, dan betaal je bij vooraf boeken slechts €200* in plaats van €250*!* zakelijk excl. btw.</p><p>Inclusief:Koffie, thee en iets lekkers en exclusief lunch. </p>
DESCRIPTION:<a href='/agenda/2026/6/27/cursusdag-in-contact-met-je-innerlijke-wijsheid-541362'>/agenda/2026/6/27/cursusdag-in-contact-met-je-innerlijke-wijsheid-541362</a> || <p><strong>Wil jij een diepere verbinding met je intuïtie ontwikkelen en leren vertrouwen op je innerlijke wijsheid?</strong>&nbsp;</p><p>Deze cursusdag is dé kans om jouw intuïtieve kracht te versterken en vol vertrouwen in het leven te staan.Tijdens deze cursusdag ontdek je hoe je je intuïtieve kracht versterkt, zodat:</p><p>- je leert luisteren naar de wijze stem in jezelf. -je twijfelt afneemt. -je meer open durft te stellen voor je gevoel.&nbsp;</p><p><strong><br></strong></p><p><strong>Wat kun je verwachten tijdens deze cursusdag?</strong></p><p>- Vertrouwen opbouwen:&nbsp;Leer hoe je op het contact met je innerlijke wijsheid (Hogere Zelf) kunt vertrouwen.<br>- Intuïtief luisteren: Ontdek hoe je jouw innerlijke stem kunt horen en volgen.</p><p>- Gronden en beschermen: krijg praktische tools om jezelf te gronden, af te schermen en te reinigen met je Hogere Zelf.<br>- Afstemmen op anderen: Leer hoe je je kunt afstemmen op de Hogere Zelf van de ander.</p><p>Optioneel – Deze dag kun je afzonderlijk boeken of samen met de cursus op zaterdag 23 mei: Ontdek je intuïtie in 5 stappen. Ben je al enigszins bekend met je intuïtie en wil je deze verder ontwikkelen? Dan is deze cursusdag op 27 juni perfect voor jou. Kies je voor beide dagen, dan betaal je bij vooraf boeken slechts €200* in plaats van €250*!* zakelijk excl. btw.</p><p>Inclusief:Koffie, thee en iets lekkers en exclusief lunch. </p>
LAST-MODIFIED:20260425T180336Z
LOCATION: De Boschhoek | Scheggertdijk 100 Almen
SEQUENCE:0
STATUS:CONFIRMED
SUMMARY:Cursusdag: In Contact met je Innerlijke Wijsheid
TRANSP:OPAQUE
END:VEVENT
END:VCALENDAR
