BEGIN:VCALENDAR
PRODID:-//PUBBLE//agenda//NL
VERSION:2.0
METHOD:PUBLISH
BEGIN:VEVENT
DTSTART:20260523T080000Z
DTEND:20260523T090000Z
DTSTAMP:20260425T181716Z
UID:e4343ea0-815b-4578-955e-8b4a35d48f09
CREATED:20260425T181716Z
NAME:Cursusdag: Ontdek je Intuïtie in 5 Stappen achterhoekagenda.nl
X-WR-CALNAME:Cursusdag: Ontdek je Intuïtie in 5 Stappen
X-ALT-DESC;FMTTYPE=text/html:<a href='/agenda/2026/5/23/cursusdag-ontdek-je-intuitie-in-5-stappen-541359'>/agenda/2026/5/23/cursusdag-ontdek-je-intuitie-in-5-stappen-541359</a> || <p><strong>Intuïtie is niet zweverig of ingewikkeld – het is jouw innerlijke kompas, dat altijd al in je aanwezig is. Leren vertrouwen op je eigen gevoel is vaak eenvoudiger dan je denkt.</strong></p><p>Tijdens deze cursusdag neem ik je stap voor stap mee in het versterken van jouw intuïtie. In vijf praktische en heldere stappen ontdek je hoe je meer kunt vertrouwen op wat jij diep vanbinnen al weet, zodat je:</p><p>• makkelijker keuzes maakt • meer zelfvertrouwen ervaart • meer helderheid voelt in jouw levensrichting</p><p><strong>Wat kun je verwachten?</strong></p><p>&nbsp;Gronden – We beginnen bij de basis: stevig staan, aanwezig zijn in je lichaam. Inzicht in jouw intuïtie – Je leert herkennen hoe jouw intuïtie met je communiceert. Versterking van je intuïtieve kracht – Praktische oefeningen en tips om je gevoel te verdiepen. Tools voor het dagelijks leven – Concrete handvatten om ook na deze dag te blijven vertrouwen op je innerlijke wijsheid.</p><p>Optioneel: deze dag kun je afzonderlijk boeken of samen met de cursus: in contact met je innerlijke wijsheid, welke gepland staat op 27 juni. In deze 2e cursusdag krijg je een verdieping in het werken met de wijsheid die in je zit. Kies je voor beide dagen, dan betaal je bij vooraf boeken slechts €200* in plaats van €250*! *zakelijk excl. btw</p><p>Incl. koffie/thee/iets lekkers en excl. lunch</p>
DESCRIPTION:<a href='/agenda/2026/5/23/cursusdag-ontdek-je-intuitie-in-5-stappen-541359'>/agenda/2026/5/23/cursusdag-ontdek-je-intuitie-in-5-stappen-541359</a> || <p><strong>Intuïtie is niet zweverig of ingewikkeld – het is jouw innerlijke kompas, dat altijd al in je aanwezig is. Leren vertrouwen op je eigen gevoel is vaak eenvoudiger dan je denkt.</strong></p><p>Tijdens deze cursusdag neem ik je stap voor stap mee in het versterken van jouw intuïtie. In vijf praktische en heldere stappen ontdek je hoe je meer kunt vertrouwen op wat jij diep vanbinnen al weet, zodat je:</p><p>• makkelijker keuzes maakt • meer zelfvertrouwen ervaart • meer helderheid voelt in jouw levensrichting</p><p><strong>Wat kun je verwachten?</strong></p><p>&nbsp;Gronden – We beginnen bij de basis: stevig staan, aanwezig zijn in je lichaam. Inzicht in jouw intuïtie – Je leert herkennen hoe jouw intuïtie met je communiceert. Versterking van je intuïtieve kracht – Praktische oefeningen en tips om je gevoel te verdiepen. Tools voor het dagelijks leven – Concrete handvatten om ook na deze dag te blijven vertrouwen op je innerlijke wijsheid.</p><p>Optioneel: deze dag kun je afzonderlijk boeken of samen met de cursus: in contact met je innerlijke wijsheid, welke gepland staat op 27 juni. In deze 2e cursusdag krijg je een verdieping in het werken met de wijsheid die in je zit. Kies je voor beide dagen, dan betaal je bij vooraf boeken slechts €200* in plaats van €250*! *zakelijk excl. btw</p><p>Incl. koffie/thee/iets lekkers en excl. lunch</p>
LAST-MODIFIED:20260425T181716Z
LOCATION: De Boschhoek | Scheggertdijk 100 Almen
SEQUENCE:0
STATUS:CONFIRMED
SUMMARY:Cursusdag: Ontdek je Intuïtie in 5 Stappen
TRANSP:OPAQUE
END:VEVENT
END:VCALENDAR
