BEGIN:VCALENDAR
PRODID:-//PUBBLE//agenda//NL
VERSION:2.0
METHOD:PUBLISH
BEGIN:VEVENT
DTSTART:20260517T080000Z
DTEND:20260517T100000Z
DTSTAMP:20260425T181440Z
UID:8ab3a5e1-9bc5-4382-9e23-e8412557bd73
CREATED:20260425T181440Z
NAME:Healing Morning met Cacao Ceremonie in Almen achterhoekagenda.nl
X-WR-CALNAME:Healing Morning met Cacao Ceremonie in Almen
X-ALT-DESC;FMTTYPE=text/html:<a href='/agenda/2026/5/17/healing-morning-met-cacao-ceremonie-in-almen-541355'>/agenda/2026/5/17/healing-morning-met-cacao-ceremonie-in-almen-541355</a> || <p><strong>Op zondagochtend 17 mei, nodig ik je uit voor een bijzondere ervaring: een Healing Morning met een Cacao Ceremonie, waarin je de ruimte krijgt om te ontspannen, los te laten en te helen.</strong></p><p>Tijdens deze ochtend zal de cacao je hart openen en een krachtige ondersteuning bieden voor de healing die ik voor jou zal verzorgen. In een veilige en liefdevolle sfeer krijg je niet alleen healing, maar ook een persoonlijke afstemming die specifiek voor jou is.</p><p>Wat kun je verwachten:</p><p>- Een geleide meditatie- Een cacao ceremonie die je helpt om je hart te openen en diepere verbinding te maken- Persoonlijke healing en inzichten die voor jou relevant zijn</p><p>- Tijd voor jezelf in een rustige, natuurlijke omgeving</p><p>Kom naar deze ochtend om jezelf te verwennen, op te laden én meer in contact te komen met je innerlijke wijsheid.</p>
DESCRIPTION:<a href='/agenda/2026/5/17/healing-morning-met-cacao-ceremonie-in-almen-541355'>/agenda/2026/5/17/healing-morning-met-cacao-ceremonie-in-almen-541355</a> || <p><strong>Op zondagochtend 17 mei, nodig ik je uit voor een bijzondere ervaring: een Healing Morning met een Cacao Ceremonie, waarin je de ruimte krijgt om te ontspannen, los te laten en te helen.</strong></p><p>Tijdens deze ochtend zal de cacao je hart openen en een krachtige ondersteuning bieden voor de healing die ik voor jou zal verzorgen. In een veilige en liefdevolle sfeer krijg je niet alleen healing, maar ook een persoonlijke afstemming die specifiek voor jou is.</p><p>Wat kun je verwachten:</p><p>- Een geleide meditatie- Een cacao ceremonie die je helpt om je hart te openen en diepere verbinding te maken- Persoonlijke healing en inzichten die voor jou relevant zijn</p><p>- Tijd voor jezelf in een rustige, natuurlijke omgeving</p><p>Kom naar deze ochtend om jezelf te verwennen, op te laden én meer in contact te komen met je innerlijke wijsheid.</p>
LAST-MODIFIED:20260425T181440Z
LOCATION: De Boschhoek | Scheggertdijk 100 Almen
SEQUENCE:0
STATUS:CONFIRMED
SUMMARY:Healing Morning met Cacao Ceremonie in Almen
TRANSP:OPAQUE
END:VEVENT
END:VCALENDAR
