BEGIN:VCALENDAR
PRODID:-//PUBBLE//agenda//NL
VERSION:2.0
METHOD:PUBLISH
BEGIN:VEVENT
DTSTART:20260426T080000Z
DTEND:20260426T100000Z
DTSTAMP:20260425T144055Z
UID:342d918b-4d7b-4b25-b6c5-678030ccb01c
CREATED:20260425T144055Z
NAME:Healing Morning met Cacao Ceremonie in Almen achterhoekagenda.nl
X-WR-CALNAME:Healing Morning met Cacao Ceremonie in Almen
X-ALT-DESC;FMTTYPE=text/html:<a href='/agenda/2026/4/26/healing-morning-met-cacao-ceremonie-in-almen-541286'>/agenda/2026/4/26/healing-morning-met-cacao-ceremonie-in-almen-541286</a> || <p>Op zondagochtend 26 april, nodig ik je uit voor een bijzondere ervaring: een Healing Morning met een Cacao Ceremonie, waarin je de ruimte krijgt om te ontspannen, los te laten en te helen.</p><p>Tijdens deze ochtend zal de cacao je hart openen en een krachtige ondersteuning bieden voor de healing die ik voor jou zal verzorgen. In een veilige en liefdevolle sfeer krijg je niet alleen healing, maar ook een persoonlijke afstemming die specifiek voor jou is.</p><p>Wat kun je verwachten:</p><p>- Een geleide meditatie - Een cacao ceremonie die je helpt om je hart te openen en diepere verbinding te maken - Persoonlijke healing en inzichten die voor jou relevant zijn - Tijd voor jezelf in een rustige, natuurlijke omgeving&nbsp;</p><p>Kom naar deze ochtend om jezelf te verwennen, op te laden én meer in contact te komen met je innerlijke wijsheid.</p>
DESCRIPTION:<a href='/agenda/2026/4/26/healing-morning-met-cacao-ceremonie-in-almen-541286'>/agenda/2026/4/26/healing-morning-met-cacao-ceremonie-in-almen-541286</a> || <p>Op zondagochtend 26 april, nodig ik je uit voor een bijzondere ervaring: een Healing Morning met een Cacao Ceremonie, waarin je de ruimte krijgt om te ontspannen, los te laten en te helen.</p><p>Tijdens deze ochtend zal de cacao je hart openen en een krachtige ondersteuning bieden voor de healing die ik voor jou zal verzorgen. In een veilige en liefdevolle sfeer krijg je niet alleen healing, maar ook een persoonlijke afstemming die specifiek voor jou is.</p><p>Wat kun je verwachten:</p><p>- Een geleide meditatie - Een cacao ceremonie die je helpt om je hart te openen en diepere verbinding te maken - Persoonlijke healing en inzichten die voor jou relevant zijn - Tijd voor jezelf in een rustige, natuurlijke omgeving&nbsp;</p><p>Kom naar deze ochtend om jezelf te verwennen, op te laden én meer in contact te komen met je innerlijke wijsheid.</p>
LAST-MODIFIED:20260425T144055Z
LOCATION: De Boschhoek | Scheggertdijk 100 Almen
SEQUENCE:0
STATUS:CONFIRMED
SUMMARY:Healing Morning met Cacao Ceremonie in Almen
TRANSP:OPAQUE
END:VEVENT
END:VCALENDAR
