BEGIN:VCALENDAR
PRODID:-//PUBBLE//agenda//NL
VERSION:2.0
METHOD:PUBLISH
BEGIN:VEVENT
DTSTART:20251026T085500Z
DTEND:20251025T230000Z
DTSTAMP:20260419T130432Z
UID:8193b2b6-7e5d-422a-834b-928ed3e96656
CREATED:20260419T130432Z
NAME:Samenkomst team achterhoekagenda.nl
X-WR-CALNAME:Samenkomst team
X-ALT-DESC;FMTTYPE=text/html:<a href='/agenda/2025/10/26/samenkomst-team-529178'>/agenda/2025/10/26/samenkomst-team-529178</a> || <p>U bent van harte welkom in deze Samenkomst in de Parochiezaal van de Christus Koningkerk. Na afloop is er gelegenheid tot ontmoeten onder het genot van een kopje koffie of thee.</p>
DESCRIPTION:<a href='/agenda/2025/10/26/samenkomst-team-529178'>/agenda/2025/10/26/samenkomst-team-529178</a> || <p>U bent van harte welkom in deze Samenkomst in de Parochiezaal van de Christus Koningkerk. Na afloop is er gelegenheid tot ontmoeten onder het genot van een kopje koffie of thee.</p>
LAST-MODIFIED:20260419T130432Z
LOCATION: Christus Koning Kerk | het Jebbink 8 Vorden
SEQUENCE:0
STATUS:CONFIRMED
SUMMARY:Samenkomst team
TRANSP:OPAQUE
END:VEVENT
END:VCALENDAR
