BEGIN:VCALENDAR
PRODID:-//PUBBLE//agenda//NL
VERSION:2.0
METHOD:PUBLISH
BEGIN:VEVENT
DTSTART:20240217T080000Z
DTEND:20240217T150000Z
DTSTAMP:20260421T164138Z
UID:8590c4ca-356d-4211-9f5a-ccabd4fd5779
CREATED:20260421T164138Z
NAME:Hip Handwerkfestijn  17 februari  in de Mattelier in Groenlo achterhoekagenda.nl
X-WR-CALNAME:Hip Handwerkfestijn  17 februari  in de Mattelier in Groenlo
X-ALT-DESC;FMTTYPE=text/html:<a href='/agenda/2024/2/17/hip-handwerkfestijn-17-februari-in-de-mattelier-in-groenlo-476829'>/agenda/2024/2/17/hip-handwerkfestijn-17-februari-in-de-mattelier-in-groenlo-476829</a> || <p>Voor de 10e keer organiseert Handwerken Verbindt een  handwerkmarkt in de Achterhoek. Reden om het dit jaar eens extra uitgebreid te vieren! Naast de ruim 30 standhouders, die graag met u ideeën uitwisselen, demonstraties geven, van alles laten zien wat met textiel en handwerken te maken, is er dit jaar ook gelegenheid voor een aantal kleine workshops. U kunt  breien/haken met het handwerkcafe Brouwershuusken, ArtTradingCards-kaartjes maken met het CreaCafeDidam, een ATC-ruilbeurs, of aanschuiven bij de breitafel van de Grolse Wanten. Ook is er een kleine expositie van Maria Klijn, die prachtige schilderijen maakt van stof. Tegelijk kan men heerlijk snuffelen tussen vintage handwerkspullen.
Het Handwerkfestijn wordt gehouden in Sociaal Cultureel Centrum de Mattelier in Groenlo van 10.00 tot 17.00 uur 
Om 11.30 uur en 15.00 uur zullen  er leuke modeshows zijn, waarbij creaties van verschillende standhouders worden getoond.
De toegang van het Hip Handwerkfestijn is gratis!
</p><p>Rolstoelvriendelijk: ja<br>Huisdiervriendelijk: nee</p>
DESCRIPTION:<a href='/agenda/2024/2/17/hip-handwerkfestijn-17-februari-in-de-mattelier-in-groenlo-476829'>/agenda/2024/2/17/hip-handwerkfestijn-17-februari-in-de-mattelier-in-groenlo-476829</a> || <p>Voor de 10e keer organiseert Handwerken Verbindt een  handwerkmarkt in de Achterhoek. Reden om het dit jaar eens extra uitgebreid te vieren! Naast de ruim 30 standhouders, die graag met u ideeën uitwisselen, demonstraties geven, van alles laten zien wat met textiel en handwerken te maken, is er dit jaar ook gelegenheid voor een aantal kleine workshops. U kunt  breien/haken met het handwerkcafe Brouwershuusken, ArtTradingCards-kaartjes maken met het CreaCafeDidam, een ATC-ruilbeurs, of aanschuiven bij de breitafel van de Grolse Wanten. Ook is er een kleine expositie van Maria Klijn, die prachtige schilderijen maakt van stof. Tegelijk kan men heerlijk snuffelen tussen vintage handwerkspullen.
Het Handwerkfestijn wordt gehouden in Sociaal Cultureel Centrum de Mattelier in Groenlo van 10.00 tot 17.00 uur 
Om 11.30 uur en 15.00 uur zullen  er leuke modeshows zijn, waarbij creaties van verschillende standhouders worden getoond.
De toegang van het Hip Handwerkfestijn is gratis!
</p><p>Rolstoelvriendelijk: ja<br>Huisdiervriendelijk: nee</p>
LAST-MODIFIED:20260421T164138Z
LOCATION: De Mattelier | Mattelierstraat 19 Groenlo
SEQUENCE:0
STATUS:CONFIRMED
SUMMARY:Hip Handwerkfestijn  17 februari  in de Mattelier in Groenlo
TRANSP:OPAQUE
END:VEVENT
END:VCALENDAR
